BEGIN:VCALENDAR
VERSION:2.0
PRODID:-//81.169.145.95//NONSGML kigkonsult.se iCalcreator 2.20//
CALSCALE:GREGORIAN
METHOD:PUBLISH
X-WR-TIMEZONE:UTC
BEGIN:VEVENT
UID:event1001@Kochschule Kirschbaum Wuppertal
DTSTAMP:20260422T173755Z
CATEGORIES:Kochkurse
DESCRIPTION:!!!AUSGEBUCHT!!!Stilechtes US-Barbecue\nKategorie: Kochkurse\nI
 CS-Link: https://kochschule-kirschbaum.de/index.php?option=com_jem&view=ev
 ent&id=1001:stilechtes-us-barbecue\n
DTSTART:20220626T160000Z
DTEND:20220626T200000Z
SUMMARY:!!!AUSGEBUCHT!!!Stilechtes US-Barbecue
URL:https://kochschule-kirschbaum.de/index.php?option=com_jem&view=event&id
 =1001:stilechtes-us-barbecue
END:VEVENT
END:VCALENDAR
