BEGIN:VCALENDAR
VERSION:2.0
PRODID:-//81.169.145.95//NONSGML kigkonsult.se iCalcreator 2.20//
CALSCALE:GREGORIAN
METHOD:PUBLISH
X-WR-TIMEZONE:UTC
BEGIN:VEVENT
UID:event1291@Kochschule Kirschbaum Wuppertal
DTSTAMP:20260422T154439Z
CATEGORIES:Kochkurse
DESCRIPTION:!!!AUSGEBUCHT!!!Tapas Grillen: Portobello Pilze mit Manchego Kä
 se\, Entenbrust mit trocken Rub\, Gambas à la Plancha\, Chuleta de Cordero
  - Lammkotelettes mit Piment und Cumin\, Pinchos de Pollo\, Aioli Límon\, 
 Mojo Verde\, Mojo Rojo\, kanarische Runzelkartoffel\nKategorie: Kochkurse
 \nICS-Link: https://kochschule-kirschbaum.de/index.php?option=com_jem&view
 =event&id=1291:ausgebucht-tapas-grillen-portobello-pilze-mit-manchego-kaes
 e-entenbrust-mit-trocken-rub-gambas-a-la-plancha-chuleta-de-cordero-lammko
 telettes-mit-piment-und-cumin-pinchos-de-pollo-aioli-limon-mojo-verde-mojo
 -rojo-kanarische-runzelkartoffel\n
DTSTART:20240224T160000Z
DTEND:20240224T200000Z
SUMMARY:!!!AUSGEBUCHT!!!Tapas Grillen: Portobello Pilze mit Manchego Käse\,
  Entenbrust mit trocken Rub\, Gambas à la Plancha\, Chuleta de Cordero - L
 ammkotelettes mit Piment und Cumin\, Pinchos de Pollo\, Aioli Límon\, Mojo
  Verde\, Mojo Rojo\, kanarische Runzelkartoffel
URL:https://kochschule-kirschbaum.de/index.php?option=com_jem&view=event&id
 =1291:ausgebucht-tapas-grillen-portobello-pilze-mit-manchego-kaese-entenbr
 ust-mit-trocken-rub-gambas-a-la-plancha-chuleta-de-cordero-lammkotelettes-
 mit-piment-und-cumin-pinchos-de-pollo-aioli-limon-mojo-verde-mojo-rojo-kan
 arische-runzelkartoffel
END:VEVENT
END:VCALENDAR
