BEGIN:VCALENDAR
VERSION:2.0
PRODID:-//81.169.145.95//NONSGML kigkonsult.se iCalcreator 2.20//
CALSCALE:GREGORIAN
METHOD:PUBLISH
X-WR-TIMEZONE:UTC
BEGIN:VEVENT
UID:event1646@Kochschule Kirschbaum Wuppertal
DTSTAMP:20260421T102651Z
CATEGORIES:Kochkurse
DESCRIPTION:BBQ Wild\nKategorie: Kochkurse\nICS-Link: https://kochschule-ki
 rschbaum.de/index.php?option=com_jem&view=event&id=1646:bbq-wild\n
DTSTART:20260315T150000Z
DTEND:20260315T190000Z
SUMMARY:BBQ Wild
URL:https://kochschule-kirschbaum.de/index.php?option=com_jem&view=event&id
 =1646:bbq-wild
END:VEVENT
END:VCALENDAR
