BEGIN:VCALENDAR
VERSION:2.0
PRODID:-//81.169.145.95//NONSGML kigkonsult.se iCalcreator 2.20//
CALSCALE:GREGORIAN
METHOD:PUBLISH
X-WR-TIMEZONE:UTC
BEGIN:VEVENT
UID:event1650@Kochschule Kirschbaum Wuppertal
DTSTAMP:20260422T085515Z
CATEGORIES:Kochkurse
DESCRIPTION: Tapas-Grillen\nKategorie: Kochkurse\nICS-Link: https://kochsch
 ule-kirschbaum.de/index.php?option=com_jem&view=event&id=1650:tapas-grille
 n\n
DTSTART:20260620T170000Z
DTEND:20260620T210000Z
SUMMARY: Tapas-Grillen
URL:https://kochschule-kirschbaum.de/index.php?option=com_jem&view=event&id
 =1650:tapas-grillen
END:VEVENT
END:VCALENDAR
