BEGIN:VCALENDAR
VERSION:2.0
PRODID:-//81.169.145.95//NONSGML kigkonsult.se iCalcreator 2.20//
CALSCALE:GREGORIAN
METHOD:PUBLISH
X-WR-TIMEZONE:UTC
BEGIN:VEVENT
UID:event1670@Kochschule Kirschbaum Wuppertal
DTSTAMP:20260421T112456Z
CATEGORIES:Kochkurse
DESCRIPTION:US BBQ - wie es sein soll! Der Geschmack der Südstaaten auf dem
  Teller!\nKategorie: Kochkurse\nICS-Link: https://kochschule-kirschbaum.de
 /index.php?option=com_jem&view=event&id=1670:us-bbq-1-platz-frei\n
DTSTART:20260808T170000Z
DTEND:20260808T210000Z
SUMMARY:US BBQ - wie es sein soll! Der Geschmack der Südstaaten auf dem Tel
 ler!
URL:https://kochschule-kirschbaum.de/index.php?option=com_jem&view=event&id
 =1670:us-bbq-1-platz-frei
END:VEVENT
END:VCALENDAR
