BEGIN:VCALENDAR
VERSION:2.0
PRODID:-//81.169.145.95//NONSGML kigkonsult.se iCalcreator 2.20//
CALSCALE:GREGORIAN
METHOD:PUBLISH
X-WR-TIMEZONE:UTC
BEGIN:VEVENT
UID:event1675@Kochschule Kirschbaum Wuppertal
DTSTAMP:20260422T085441Z
CATEGORIES:Kochkurse
DESCRIPTION: Burgermenü de luxe \nKategorie: Kochkurse\nICS-Link: https://k
 ochschule-kirschbaum.de/index.php?option=com_jem&view=event&id=1675:burger
 menue-de-luxe\n
DTSTART:20260618T170000Z
DTEND:20260618T210000Z
LOCATION:Kochschule Kirschbaum\,Kölnerstrasse 19\,42119 Wuppertal
SUMMARY: Burgermenü de luxe 
URL:https://kochschule-kirschbaum.de/index.php?option=com_jem&view=event&id
 =1675:burgermenue-de-luxe
END:VEVENT
END:VCALENDAR
