BEGIN:VCALENDAR
VERSION:2.0
PRODID:-//81.169.145.95//NONSGML kigkonsult.se iCalcreator 2.20//
CALSCALE:GREGORIAN
METHOD:PUBLISH
X-WR-TIMEZONE:UTC
BEGIN:VEVENT
UID:event1689@Kochschule Kirschbaum Wuppertal
DTSTAMP:20260421T113754Z
CATEGORIES:Kochkurse
DESCRIPTION:Jerusalem! -Sommermenü nach Yotam Ottolenghi\nKategorie: Kochku
 rse\nICS-Link: https://kochschule-kirschbaum.de/index.php?option=com_jem&v
 iew=event&id=1689:jerusalem-sommermenue-nach-yotam-ottolenghi\n
DTSTART:20260718T170000Z
DTEND:20260718T210000Z
SUMMARY:Jerusalem! -Sommermenü nach Yotam Ottolenghi
URL:https://kochschule-kirschbaum.de/index.php?option=com_jem&view=event&id
 =1689:jerusalem-sommermenue-nach-yotam-ottolenghi
END:VEVENT
END:VCALENDAR
