BEGIN:VCALENDAR
VERSION:2.0
PRODID:-//81.169.145.95//NONSGML kigkonsult.se iCalcreator 2.20//
CALSCALE:GREGORIAN
METHOD:PUBLISH
X-WR-TIMEZONE:UTC
BEGIN:VEVENT
UID:event1691@Kochschule Kirschbaum Wuppertal
DTSTAMP:20260422T101839Z
CATEGORIES:Kochkurse
DESCRIPTION:Jerusalem! - Israelische Küche im Ottolenghi Style\nKategorie: 
 Kochkurse\nICS-Link: https://kochschule-kirschbaum.de/index.php?option=com
 _jem&view=event&id=1691:jerusalem-israelische-kueche-nach-yotam-ottolenghi
 \n
DTSTART:20260626T170000Z
DTEND:20260626T210000Z
SUMMARY:Jerusalem! - Israelische Küche im Ottolenghi Style
URL:https://kochschule-kirschbaum.de/index.php?option=com_jem&view=event&id
 =1691:jerusalem-israelische-kueche-nach-yotam-ottolenghi
END:VEVENT
END:VCALENDAR
