BEGIN:VCALENDAR
VERSION:2.0
PRODID:-//81.169.145.95//NONSGML kigkonsult.se iCalcreator 2.20//
CALSCALE:GREGORIAN
METHOD:PUBLISH
X-WR-TIMEZONE:UTC
BEGIN:VEVENT
UID:event1692@Kochschule Kirschbaum Wuppertal
DTSTAMP:20260422T120259Z
CATEGORIES:Kochkurse
DESCRIPTION:  Tokio Tapas!  Inspiriert von traditionellen Izakayas\, den ge
 mütlichen japanischen Gaststätten\, erwartet Sie eine Vielzahl von köstlic
 hen Gerichten\, die zum Teilen und Probieren einladen.\nKategorie: Kochkur
 se\nICS-Link: https://kochschule-kirschbaum.de/index.php?option=com_jem&vi
 ew=event&id=1692:tokio-tapas-inspiriert-von-traditionellen-izakayas-den-ge
 muetlichen-japanischen-gaststaetten-erwartet-sie-eine-vielzahl-von-koestli
 chen-gerichten-die-zum-teilen-und-probieren-einladen\n
DTSTART:20260912T170000Z
DTEND:20260912T210000Z
LOCATION:Kochschule Kirschbaum\,Kölnerstrasse 19\,42119 Wuppertal
SUMMARY:  Tokio Tapas!  Inspiriert von traditionellen Izakayas\, den gemütl
 ichen japanischen Gaststätten\, erwartet Sie eine Vielzahl von köstlichen 
 Gerichten\, die zum Teilen und Probieren einladen.
URL:https://kochschule-kirschbaum.de/index.php?option=com_jem&view=event&id
 =1692:tokio-tapas-inspiriert-von-traditionellen-izakayas-den-gemuetlichen-
 japanischen-gaststaetten-erwartet-sie-eine-vielzahl-von-koestlichen-gerich
 ten-die-zum-teilen-und-probieren-einladen
END:VEVENT
END:VCALENDAR
