BEGIN:VCALENDAR
VERSION:2.0
PRODID:-//81.169.145.95//NONSGML kigkonsult.se iCalcreator 2.20//
CALSCALE:GREGORIAN
METHOD:PUBLISH
X-WR-TIMEZONE:UTC
BEGIN:VEVENT
UID:event1694@Kochschule Kirschbaum Wuppertal
DTSTAMP:20260422T115818Z
CATEGORIES:Kochkurse
DESCRIPTION: Tokio Tapas!  Inspiriert von traditionellen Izakayas\, den gem
 ütlichen japanischen Gaststätten\, erwartet Sie eine Vielzahl von köstlich
 en Gerichten\, die zum Teilen und Probieren einladen.\nKategorie: Kochkurs
 e\nICS-Link: https://kochschule-kirschbaum.de/index.php?option=com_jem&vie
 w=event&id=1694:tokio-tapas-inspiriert-von-traditionellen-izakayas-den-gem
 uetlichen-japanischen-gaststaetten-erwartet-sie-eine-vielzahl-von-koestlic
 hen-gerichten-die-zum-teilen-und-probieren-einladen\n
DTSTART:20260710T170000Z
DTEND:20260710T210000Z
LOCATION:Kochschule Kirschbaum\,Kölnerstrasse 19\,42119 Wuppertal
SUMMARY: Tokio Tapas!  Inspiriert von traditionellen Izakayas\, den gemütli
 chen japanischen Gaststätten\, erwartet Sie eine Vielzahl von köstlichen G
 erichten\, die zum Teilen und Probieren einladen.
URL:https://kochschule-kirschbaum.de/index.php?option=com_jem&view=event&id
 =1694:tokio-tapas-inspiriert-von-traditionellen-izakayas-den-gemuetlichen-
 japanischen-gaststaetten-erwartet-sie-eine-vielzahl-von-koestlichen-gerich
 ten-die-zum-teilen-und-probieren-einladen
END:VEVENT
END:VCALENDAR
