BEGIN:VCALENDAR
VERSION:2.0
PRODID:-//81.169.145.95//NONSGML kigkonsult.se iCalcreator 2.20//
CALSCALE:GREGORIAN
METHOD:PUBLISH
X-WR-TIMEZONE:UTC
BEGIN:VEVENT
UID:event438@Kochschule Kirschbaum Wuppertal
DTSTAMP:20260422T173140Z
CATEGORIES:Kochkurse
DESCRIPTION:Sushi - ganz viele Fern(k)östlichkeiten\nKategorie: Kochkurse\n
 ICS-Link: https://kochschule-kirschbaum.de/index.php?option=com_jem&view=e
 vent&id=438:sushikurs-mit-vielen-fern-k-oestlichkeiten\n
DTSTART:20191120T130000Z
DTEND:20191120T160000Z
SUMMARY:Sushi - ganz viele Fern(k)östlichkeiten
URL:https://kochschule-kirschbaum.de/index.php?option=com_jem&view=event&id
 =438:sushikurs-mit-vielen-fern-k-oestlichkeiten
END:VEVENT
END:VCALENDAR
