BEGIN:VCALENDAR
VERSION:2.0
PRODID:-//81.169.145.95//NONSGML kigkonsult.se iCalcreator 2.20//
CALSCALE:GREGORIAN
METHOD:PUBLISH
X-WR-TIMEZONE:UTC
BEGIN:VEVENT
UID:event465@Kochschule Kirschbaum Wuppertal
DTSTAMP:20260422T074215Z
CATEGORIES:Kochkurse
DESCRIPTION:+++ AUSGEBUCHT +++ Pralinenkurs\nKategorie: Kochkurse\nICS-Link
 : https://kochschule-kirschbaum.de/index.php?option=com_jem&view=event&id=
 465:pralinenkurs\n
DTSTART:20200118T110000Z
DTEND:20200118T140000Z
SUMMARY:+++ AUSGEBUCHT +++ Pralinenkurs
URL:https://kochschule-kirschbaum.de/index.php?option=com_jem&view=event&id
 =465:pralinenkurs
END:VEVENT
END:VCALENDAR
