BEGIN:VCALENDAR
VERSION:2.0
PRODID:-//81.169.145.95//NONSGML kigkonsult.se iCalcreator 2.20//
CALSCALE:GREGORIAN
METHOD:PUBLISH
X-WR-TIMEZONE:UTC
BEGIN:VEVENT
UID:event668@Kochschule Kirschbaum Wuppertal
DTSTAMP:20260421T185629Z
CATEGORIES:Kochkurse
DESCRIPTION:Fällt aus! > Fleisch- und Saucenkurs\nKategorie: Kochkurse\nICS
 -Link: https://kochschule-kirschbaum.de/index.php?option=com_jem&view=even
 t&id=668:fleisch-und-saucenkurs\n
DTSTART:20210508T173000Z
DTEND:20210508T213000Z
SUMMARY:Fällt aus! > Fleisch- und Saucenkurs
URL:https://kochschule-kirschbaum.de/index.php?option=com_jem&view=event&id
 =668:fleisch-und-saucenkurs
END:VEVENT
END:VCALENDAR
