BEGIN:VCALENDAR
VERSION:2.0
PRODID:-//81.169.145.95//NONSGML kigkonsult.se iCalcreator 2.20//
CALSCALE:GREGORIAN
METHOD:PUBLISH
X-WR-TIMEZONE:UTC
BEGIN:VEVENT
UID:event673@Kochschule Kirschbaum Wuppertal
DTSTAMP:20260419T203053Z
CATEGORIES:Kochkurse
DESCRIPTION:Fällt aus! / Eine Reise nach Peru\nKategorie: Kochkurse\nICS-Li
 nk: https://kochschule-kirschbaum.de/index.php?option=com_jem&view=event&i
 d=673:eine-reise-nach-peru\n
DTSTART:20210411T170000Z
DTEND:20210411T210000Z
SUMMARY:Fällt aus! / Eine Reise nach Peru
URL:https://kochschule-kirschbaum.de/index.php?option=com_jem&view=event&id
 =673:eine-reise-nach-peru
END:VEVENT
END:VCALENDAR
