BEGIN:VCALENDAR
VERSION:2.0
PRODID:-//81.169.145.95//NONSGML kigkonsult.se iCalcreator 2.20//
CALSCALE:GREGORIAN
METHOD:PUBLISH
X-WR-TIMEZONE:UTC
BEGIN:VEVENT
UID:event793@Kochschule Kirschbaum Wuppertal
DTSTAMP:20260420T151237Z
CATEGORIES:Kochkurse
DESCRIPTION:!!!AUSGEBUCHT!!! Tapas und Fingerfood – eine kulinarische Reise
  durch Spanien\nKategorie: Kochkurse\nICS-Link: https://kochschule-kirschb
 aum.de/index.php?option=com_jem&view=event&id=793:tapas-und-fingerfood-ein
 e-kulinarische-reise-durch-spanien\n
DTSTART:20211022T170000Z
DTEND:20211022T210000Z
SUMMARY:!!!AUSGEBUCHT!!! Tapas und Fingerfood – eine kulinarische Reise dur
 ch Spanien
URL:https://kochschule-kirschbaum.de/index.php?option=com_jem&view=event&id
 =793:tapas-und-fingerfood-eine-kulinarische-reise-durch-spanien
END:VEVENT
END:VCALENDAR
