BEGIN:VCALENDAR
VERSION:2.0
PRODID:-//81.169.145.95//NONSGML kigkonsult.se iCalcreator 2.20//
CALSCALE:GREGORIAN
METHOD:PUBLISH
X-WR-TIMEZONE:UTC
BEGIN:VEVENT
UID:event1320@Kochschule Kirschbaum Wuppertal
DTSTAMP:20260425T140011Z
CATEGORIES:Kochkurse
DESCRIPTION:!!!AUSGEBUCHT!!!French Bistro –  zu Tisch in Paris!\nKategorie:
  Kochkurse\nICS-Link: https://kochschule-kirschbaum.de/index.php?option=co
 m_jem&view=event&id=1320:french-bistro-zu-tisch-in-paris\n
DTSTART:20250126T130000Z
DTEND:20250126T170000Z
SUMMARY:!!!AUSGEBUCHT!!!French Bistro –  zu Tisch in Paris!
URL:https://kochschule-kirschbaum.de/index.php?option=com_jem&view=event&id
 =1320:french-bistro-zu-tisch-in-paris
END:VEVENT
END:VCALENDAR
