BEGIN:VCALENDAR
VERSION:2.0
PRODID:-//81.169.145.95//NONSGML kigkonsult.se iCalcreator 2.20//
CALSCALE:GREGORIAN
METHOD:PUBLISH
X-WR-TIMEZONE:UTC
BEGIN:VEVENT
UID:event1330@Kochschule Kirschbaum Wuppertal
DTSTAMP:20260423T212628Z
CATEGORIES:Kochkurse
DESCRIPTION:!!!AUSGEBUCHT!!! BBQ Wild\nKategorie: Kochkurse\nICS-Link: http
 s://kochschule-kirschbaum.de/index.php?option=com_jem&view=event&id=1330:b
 bq-wild\n
DTSTART:20241110T140000Z
DTEND:20241110T180000Z
SUMMARY:!!!AUSGEBUCHT!!! BBQ Wild
URL:https://kochschule-kirschbaum.de/index.php?option=com_jem&view=event&id
 =1330:bbq-wild
END:VEVENT
END:VCALENDAR
