BEGIN:VCALENDAR
VERSION:2.0
PRODID:-//81.169.145.95//NONSGML kigkonsult.se iCalcreator 2.20//
CALSCALE:GREGORIAN
METHOD:PUBLISH
X-WR-TIMEZONE:UTC
BEGIN:VEVENT
UID:event1446@Kochschule Kirschbaum Wuppertal
DTSTAMP:20260425T112317Z
CATEGORIES:Kochkurse
DESCRIPTION:AUSGEBUCHT!!! Tokio Tapas!  Inspiriert von traditionellen Izaka
 yas\, den gemütlichen japanischen Gaststätten\, erwartet Sie eine Vielzahl
  von köstlichen Gerichten\, die zum Teilen und Probieren einladen.\nKatego
 rie: Kochkurse\nICS-Link: https://kochschule-kirschbaum.de/index.php?optio
 n=com_jem&view=event&id=1446:tokio-tapas-inspiriert-von-traditionellen-iza
 kayas-den-gemuetlichen-japanischen-gaststaetten-erwartet-sie-eine-vielzahl
 -von-koestlichen-gerichten-die-zum-teilen-und-probieren-einladen\n
DTSTART:20250323T140000Z
DTEND:20250323T180000Z
LOCATION:Kochschule Kirschbaum\,Kölnerstrasse 19\,42119 Wuppertal
SUMMARY:AUSGEBUCHT!!! Tokio Tapas!  Inspiriert von traditionellen Izakayas\
 , den gemütlichen japanischen Gaststätten\, erwartet Sie eine Vielzahl von
  köstlichen Gerichten\, die zum Teilen und Probieren einladen.
URL:https://kochschule-kirschbaum.de/index.php?option=com_jem&view=event&id
 =1446:tokio-tapas-inspiriert-von-traditionellen-izakayas-den-gemuetlichen-
 japanischen-gaststaetten-erwartet-sie-eine-vielzahl-von-koestlichen-gerich
 ten-die-zum-teilen-und-probieren-einladen
END:VEVENT
END:VCALENDAR
