BEGIN:VCALENDAR
VERSION:2.0
PRODID:-//81.169.145.95//NONSGML kigkonsult.se iCalcreator 2.20//
CALSCALE:GREGORIAN
METHOD:PUBLISH
X-WR-TIMEZONE:UTC
BEGIN:VEVENT
UID:event1698@Kochschule Kirschbaum Wuppertal
DTSTAMP:20260421T112549Z
CATEGORIES:Kochkurse
DESCRIPTION:Provence-Menü\nKategorie: Kochkurse\nICS-Link: https://kochschu
 le-kirschbaum.de/index.php?option=com_jem&view=event&id=1698:provence-menu
 e\n
DTSTART:20260904T170000Z
DTEND:20260904T210000Z
SUMMARY:Provence-Menü
URL:https://kochschule-kirschbaum.de/index.php?option=com_jem&view=event&id
 =1698:provence-menue
END:VEVENT
END:VCALENDAR
