BEGIN:VCALENDAR
VERSION:2.0
PRODID:-//81.169.145.95//NONSGML kigkonsult.se iCalcreator 2.20//
CALSCALE:GREGORIAN
METHOD:PUBLISH
X-WR-TIMEZONE:UTC
BEGIN:VEVENT
UID:event1740@Kochschule Kirschbaum Wuppertal
DTSTAMP:20260425T223055Z
CATEGORIES:Kochkurse
DESCRIPTION:Jerusalem! - Israelische Küche im Ottolenghi Style\nKategorie: 
 Kochkurse\nICS-Link: https://kochschule-kirschbaum.de/index.php?option=com
 _jem&view=event&id=1740:jerusalem-israelische-kueche-im-ottolenghi-style\n
DTSTART:20260722T170000Z
DTEND:20260722T210000Z
SUMMARY:Jerusalem! - Israelische Küche im Ottolenghi Style
URL:https://kochschule-kirschbaum.de/index.php?option=com_jem&view=event&id
 =1740:jerusalem-israelische-kueche-im-ottolenghi-style
END:VEVENT
END:VCALENDAR
