BEGIN:VCALENDAR
VERSION:2.0
PRODID:-//81.169.145.95//NONSGML kigkonsult.se iCalcreator 2.20//
CALSCALE:GREGORIAN
METHOD:PUBLISH
X-WR-TIMEZONE:UTC
BEGIN:VEVENT
UID:event480@Kochschule Kirschbaum Wuppertal
DTSTAMP:20260424T105544Z
CATEGORIES:Kochkurse
DESCRIPTION:Fisch und Meeresfrüchte\nKategorie: Kochkurse\nICS-Link: https:
 //kochschule-kirschbaum.de/index.php?option=com_jem&view=event&id=480:fisc
 h-und-meeresfruechte\n
DTSTART:20211101T140000Z
DTEND:20211101T180000Z
SUMMARY:Fisch und Meeresfrüchte
URL:https://kochschule-kirschbaum.de/index.php?option=com_jem&view=event&id
 =480:fisch-und-meeresfruechte
END:VEVENT
END:VCALENDAR
