BEGIN:VCALENDAR
VERSION:2.0
PRODID:-//81.169.145.95//NONSGML kigkonsult.se iCalcreator 2.20//
CALSCALE:GREGORIAN
METHOD:PUBLISH
X-WR-TIMEZONE:UTC
BEGIN:VEVENT
UID:event530@Kochschule Kirschbaum Wuppertal
DTSTAMP:20260422T085636Z
CATEGORIES:Kochkurse
DESCRIPTION:!AUSGEBUCHT> Wintergrillen\nKategorie: Kochkurse\nICS-Link: htt
 ps://kochschule-kirschbaum.de/index.php?option=com_jem&view=event&id=530:w
 intergrillen\n
DTSTART:20201101T160000Z
DTEND:20201101T200000Z
SUMMARY:!AUSGEBUCHT> Wintergrillen
URL:https://kochschule-kirschbaum.de/index.php?option=com_jem&view=event&id
 =530:wintergrillen
END:VEVENT
END:VCALENDAR
