BEGIN:VCALENDAR
VERSION:2.0
PRODID:-//81.169.145.95//NONSGML kigkonsult.se iCalcreator 2.20//
CALSCALE:GREGORIAN
METHOD:PUBLISH
X-WR-TIMEZONE:UTC
BEGIN:VEVENT
UID:event727@Kochschule Kirschbaum Wuppertal
DTSTAMP:20260425T115150Z
CATEGORIES:Kochkurse
DESCRIPTION:Fleischlos glücklich! - Vegetarischer Kochworkshop\nKategorie: 
 Kochkurse\nICS-Link: https://kochschule-kirschbaum.de/index.php?option=com
 _jem&view=event&id=727:fleischlos-gluecklich-vegetarischer-kochworkshop\n
DTSTART:20210812T180000Z
DTEND:20210812T220000Z
SUMMARY:Fleischlos glücklich! - Vegetarischer Kochworkshop
URL:https://kochschule-kirschbaum.de/index.php?option=com_jem&view=event&id
 =727:fleischlos-gluecklich-vegetarischer-kochworkshop
END:VEVENT
END:VCALENDAR
