BEGIN:VCALENDAR
VERSION:2.0
PRODID:-//81.169.145.95//NONSGML kigkonsult.se iCalcreator 2.20//
CALSCALE:GREGORIAN
METHOD:PUBLISH
X-WR-TIMEZONE:UTC
BEGIN:VEVENT
UID:event805@Kochschule Kirschbaum Wuppertal
DTSTAMP:20260424T151112Z
CATEGORIES:Kochkurse
DESCRIPTION:!!!AUSGEBUCHT!!!Tapas und Fingerfood – eine kulinarische Reise 
 durch Spanien\nKategorie: Kochkurse\nICS-Link: https://kochschule-kirschba
 um.de/index.php?option=com_jem&view=event&id=805:tapas-und-fingerfood-eine
 -kulinarische-reise-durch-spanien\n
DTSTART:20211030T160000Z
DTEND:20211030T200000Z
SUMMARY:!!!AUSGEBUCHT!!!Tapas und Fingerfood – eine kulinarische Reise durc
 h Spanien
URL:https://kochschule-kirschbaum.de/index.php?option=com_jem&view=event&id
 =805:tapas-und-fingerfood-eine-kulinarische-reise-durch-spanien
END:VEVENT
END:VCALENDAR
