BEGIN:VCALENDAR
VERSION:2.0
PRODID:-//81.169.145.95//NONSGML kigkonsult.se iCalcreator 2.20//
CALSCALE:GREGORIAN
METHOD:PUBLISH
X-WR-TIMEZONE:UTC
BEGIN:VEVENT
UID:event920@Kochschule Kirschbaum Wuppertal
DTSTAMP:20260424T211325Z
CATEGORIES:Kochkurse
DESCRIPTION:Pralinen\nKategorie: Kochkurse\nICS-Link: https://kochschule-ki
 rschbaum.de/index.php?option=com_jem&view=event&id=920:ausgebucht-pralinen
 \n
DTSTART:20220226T110000Z
DTEND:20220226T150000Z
SUMMARY:Pralinen
URL:https://kochschule-kirschbaum.de/index.php?option=com_jem&view=event&id
 =920:ausgebucht-pralinen
END:VEVENT
END:VCALENDAR
